BEGIN:VCALENDAR
VERSION:2.0
PRODID:-//Plone.org//NONSGML plone.app.event//EN
X-WR-TIMEZONE:Europe/Berlin
BEGIN:VEVENT
SUMMARY:GAYS & FRIENDS
DTSTART;TZID=Europe/Berlin;VALUE=DATE-TIME:20250117T190000
DTEND;TZID=Europe/Berlin;VALUE=DATE-TIME:20250117T230000
DTSTAMP;VALUE=DATE-TIME:20260424T050442Z
UID:ed52d107fa23470b887544a94c05bac0@localhost:16090
CONTACT:Bruno Willi\, 044 555 01 70\, info@hiv-aidsseelsorge.ch
CREATED;VALUE=DATE-TIME:20240206T130536Z
DESCRIPTION:Apéro und Abendessen für HIV-betroffene Gays und deren Freun
 de
LAST-MODIFIED;VALUE=DATE-TIME:20250915T092358Z
LOCATION:Begegnungszentrum\, Universitätstrasse 42\, 8006 Zürich
URL:https://www.hiv-aidsseelsorge.ch/agenda/regelmaessige/gays-friends/202
 5-01-17
END:VEVENT
BEGIN:VTIMEZONE
TZID:Europe/Berlin
X-LIC-LOCATION:Europe/Berlin
BEGIN:STANDARD
DTSTART;VALUE=DATE-TIME:20241027T020000
TZNAME:CET
TZOFFSETFROM:+0200
TZOFFSETTO:+0100
END:STANDARD
END:VTIMEZONE
END:VCALENDAR
