BEGIN:VCALENDAR
VERSION:2.0
PRODID:-//Plone.org//NONSGML plone.app.event//EN
X-WR-TIMEZONE:Europe/Berlin
BEGIN:VEVENT
SUMMARY:Mittags-Treff
DTSTART;TZID=Europe/Berlin;VALUE=DATE-TIME:20250325T120000
DTEND;TZID=Europe/Berlin;VALUE=DATE-TIME:20250325T140000
DTSTAMP;VALUE=DATE-TIME:20260420T105412Z
UID:8739860933d24915b7b0b9a92aaf4452@localhost:16090
CONTACT:Bruno Willi\, 044 555 01 70\, info@hiv-aidsseelsorge.ch
CREATED;VALUE=DATE-TIME:20211214T105756Z
DESCRIPTION:Gleichgesinnte treffen\, zusammen reden\, Gemeinschaft pflegen
  und dabei ein gesundes\, reichhaltiges Mittagessen geniessen.
LAST-MODIFIED;VALUE=DATE-TIME:20250915T092358Z
LOCATION:Begegnungszentrum\, Universitätstrasse 42\, 8006 Zürich
URL:https://www.hiv-aidsseelsorge.ch/agenda/regelmaessige/mittags-treff/20
 25-03-25
END:VEVENT
BEGIN:VTIMEZONE
TZID:Europe/Berlin
X-LIC-LOCATION:Europe/Berlin
BEGIN:STANDARD
DTSTART;VALUE=DATE-TIME:20241027T020000
TZNAME:CET
TZOFFSETFROM:+0200
TZOFFSETTO:+0100
END:STANDARD
END:VTIMEZONE
END:VCALENDAR
